BEGIN:VCALENDAR
VERSION:2.0
PRODID:-//Esperanza Academy Charter School - ECPv6.15.20//NONSGML v1.0//EN
CALSCALE:GREGORIAN
METHOD:PUBLISH
X-WR-CALNAME:Esperanza Academy Charter School
X-ORIGINAL-URL:https://www.esperanzaacademycs.org
X-WR-CALDESC:Events for Esperanza Academy Charter School
REFRESH-INTERVAL;VALUE=DURATION:PT1H
X-Robots-Tag:noindex
X-PUBLISHED-TTL:PT1H
BEGIN:VTIMEZONE
TZID:America/New_York
BEGIN:DAYLIGHT
TZOFFSETFROM:-0500
TZOFFSETTO:-0400
TZNAME:EDT
DTSTART:20240310T070000
END:DAYLIGHT
BEGIN:STANDARD
TZOFFSETFROM:-0400
TZOFFSETTO:-0500
TZNAME:EST
DTSTART:20241103T060000
END:STANDARD
BEGIN:DAYLIGHT
TZOFFSETFROM:-0500
TZOFFSETTO:-0400
TZNAME:EDT
DTSTART:20250309T070000
END:DAYLIGHT
BEGIN:STANDARD
TZOFFSETFROM:-0400
TZOFFSETTO:-0500
TZNAME:EST
DTSTART:20251102T060000
END:STANDARD
BEGIN:DAYLIGHT
TZOFFSETFROM:-0500
TZOFFSETTO:-0400
TZNAME:EDT
DTSTART:20260308T070000
END:DAYLIGHT
BEGIN:STANDARD
TZOFFSETFROM:-0400
TZOFFSETTO:-0500
TZNAME:EST
DTSTART:20261101T060000
END:STANDARD
END:VTIMEZONE
BEGIN:VEVENT
DTSTART;TZID=America/New_York:20250606T120000
DTEND;TZID=America/New_York:20250606T120000
DTSTAMP:20260420T081800
CREATED:20240801T150931Z
LAST-MODIFIED:20240801T150931Z
UID:1817-1749211200-1749211200@www.esperanzaacademycs.org
SUMMARY:12:00 pm Early Dismissal - Last Day of School for All Non-Graduating Students
DESCRIPTION:
URL:https://www.esperanzaacademycs.org/event/1200-pm-early-dismissal-last-day-of-school-for-all-non-graduating-students/
END:VEVENT
BEGIN:VEVENT
DTSTART;TZID=America/New_York:20250610T160000
DTEND;TZID=America/New_York:20250610T170000
DTSTAMP:20260420T081800
CREATED:20240814T132736Z
LAST-MODIFIED:20240814T132736Z
UID:1834-1749571200-1749574800@www.esperanzaacademycs.org
SUMMARY:Finance Committee Meeting (4pm)
DESCRIPTION:The Finance Committee Meeting will be held in the Middle School Shared Conference Room which is located on the first floor.
URL:https://www.esperanzaacademycs.org/event/finance-committee-meeting-4pm-5/
LOCATION:Esperanza Academy Charter School\, 4261 N. 5th Street\, Philadelphia\, PA\, 19140
CATEGORIES:Board of Trustees,Staff
ORGANIZER;CN="Yesenia Garcia":MAILTO:ygarcia@neacademy.net
END:VEVENT
BEGIN:VEVENT
DTSTART;VALUE=DATE:20250618
DTEND;VALUE=DATE:20250623
DTSTAMP:20260420T081800
CREATED:20250626T181606Z
LAST-MODIFIED:20250626T181606Z
UID:2087-1750204800-1750636799@www.esperanzaacademycs.org
SUMMARY:All Faculty and Staff Professional Development
DESCRIPTION:
URL:https://www.esperanzaacademycs.org/event/all-faculty-and-staff-professional-development-3/
END:VEVENT
END:VCALENDAR