BEGIN:VCALENDAR
VERSION:2.0
PRODID:-//Esperanza Academy Charter School - ECPv6.15.20//NONSGML v1.0//EN
CALSCALE:GREGORIAN
METHOD:PUBLISH
X-WR-CALNAME:Esperanza Academy Charter School
X-ORIGINAL-URL:https://www.esperanzaacademycs.org
X-WR-CALDESC:Events for Esperanza Academy Charter School
REFRESH-INTERVAL;VALUE=DURATION:PT1H
X-Robots-Tag:noindex
X-PUBLISHED-TTL:PT1H
BEGIN:VTIMEZONE
TZID:America/New_York
BEGIN:DAYLIGHT
TZOFFSETFROM:-0500
TZOFFSETTO:-0400
TZNAME:EDT
DTSTART:20210314T070000
END:DAYLIGHT
BEGIN:STANDARD
TZOFFSETFROM:-0400
TZOFFSETTO:-0500
TZNAME:EST
DTSTART:20211107T060000
END:STANDARD
BEGIN:DAYLIGHT
TZOFFSETFROM:-0500
TZOFFSETTO:-0400
TZNAME:EDT
DTSTART:20220313T070000
END:DAYLIGHT
BEGIN:STANDARD
TZOFFSETFROM:-0400
TZOFFSETTO:-0500
TZNAME:EST
DTSTART:20221106T060000
END:STANDARD
BEGIN:DAYLIGHT
TZOFFSETFROM:-0500
TZOFFSETTO:-0400
TZNAME:EDT
DTSTART:20230312T070000
END:DAYLIGHT
BEGIN:STANDARD
TZOFFSETFROM:-0400
TZOFFSETTO:-0500
TZNAME:EST
DTSTART:20231105T060000
END:STANDARD
END:VTIMEZONE
BEGIN:VEVENT
DTSTART;VALUE=DATE:20220221
DTEND;VALUE=DATE:20220222
DTSTAMP:20260422T042344
CREATED:20210726T164721Z
LAST-MODIFIED:20210726T164721Z
UID:921-1645401600-1645487999@www.esperanzaacademycs.org
SUMMARY:School Closed - President's Day
DESCRIPTION:
URL:https://www.esperanzaacademycs.org/event/school-closed-presidents-day/
CATEGORIES:Elementary School,High School,Middle School
END:VEVENT
BEGIN:VEVENT
DTSTART;TZID=America/New_York:20220224T173000
DTEND;TZID=America/New_York:20220224T193000
DTSTAMP:20260422T042344
CREATED:20220224T223000Z
LAST-MODIFIED:20210921T195729Z
UID:922-1645723800-1645731000@www.esperanzaacademycs.org
SUMMARY:Board of Trustees Meeting
DESCRIPTION:Meeting will be held in the Esperanza Gran Salon located at 4261 N. 5th Street\, Philadelphia PA 19140.
URL:https://www.esperanzaacademycs.org/event/board-of-trustees-meeting-3/
CATEGORIES:Board of Trustees
END:VEVENT
END:VCALENDAR