BEGIN:VCALENDAR
VERSION:2.0
PRODID:-//Esperanza Academy Charter School - ECPv6.15.20//NONSGML v1.0//EN
CALSCALE:GREGORIAN
METHOD:PUBLISH
X-WR-CALNAME:Esperanza Academy Charter School
X-ORIGINAL-URL:https://www.esperanzaacademycs.org
X-WR-CALDESC:Events for Esperanza Academy Charter School
REFRESH-INTERVAL;VALUE=DURATION:PT1H
X-Robots-Tag:noindex
X-PUBLISHED-TTL:PT1H
BEGIN:VTIMEZONE
TZID:America/New_York
BEGIN:DAYLIGHT
TZOFFSETFROM:-0500
TZOFFSETTO:-0400
TZNAME:EDT
DTSTART:20200308T070000
END:DAYLIGHT
BEGIN:STANDARD
TZOFFSETFROM:-0400
TZOFFSETTO:-0500
TZNAME:EST
DTSTART:20201101T060000
END:STANDARD
BEGIN:DAYLIGHT
TZOFFSETFROM:-0500
TZOFFSETTO:-0400
TZNAME:EDT
DTSTART:20210314T070000
END:DAYLIGHT
BEGIN:STANDARD
TZOFFSETFROM:-0400
TZOFFSETTO:-0500
TZNAME:EST
DTSTART:20211107T060000
END:STANDARD
BEGIN:DAYLIGHT
TZOFFSETFROM:-0500
TZOFFSETTO:-0400
TZNAME:EDT
DTSTART:20220313T070000
END:DAYLIGHT
BEGIN:STANDARD
TZOFFSETFROM:-0400
TZOFFSETTO:-0500
TZNAME:EST
DTSTART:20221106T060000
END:STANDARD
BEGIN:DAYLIGHT
TZOFFSETFROM:-0500
TZOFFSETTO:-0400
TZNAME:EDT
DTSTART:20230312T070000
END:DAYLIGHT
BEGIN:STANDARD
TZOFFSETFROM:-0400
TZOFFSETTO:-0500
TZNAME:EST
DTSTART:20231105T060000
END:STANDARD
END:VTIMEZONE
BEGIN:VEVENT
DTSTART;VALUE=DATE:20220103
DTEND;VALUE=DATE:20220104
DTSTAMP:20260422T053619
CREATED:20210726T164508Z
LAST-MODIFIED:20210726T164508Z
UID:917-1641168000-1641254399@www.esperanzaacademycs.org
SUMMARY:School Resumes
DESCRIPTION:
URL:https://www.esperanzaacademycs.org/event/school-resumes-3/
CATEGORIES:Elementary School,High School,Middle School
END:VEVENT
BEGIN:VEVENT
DTSTART;VALUE=DATE:20211220
DTEND;VALUE=DATE:20220101
DTSTAMP:20260422T053619
CREATED:20210726T164447Z
LAST-MODIFIED:20210726T164447Z
UID:916-1639958400-1640995199@www.esperanzaacademycs.org
SUMMARY:School Closed - Winter Recess
DESCRIPTION:
URL:https://www.esperanzaacademycs.org/event/school-closed-winter-recess/
CATEGORIES:Elementary School,High School,Middle School
END:VEVENT
BEGIN:VEVENT
DTSTART;TZID=America/New_York:20211216T173000
DTEND;TZID=America/New_York:20211216T193000
DTSTAMP:20260422T053619
CREATED:20211216T223000Z
LAST-MODIFIED:20210921T195752Z
UID:915-1639675800-1639683000@www.esperanzaacademycs.org
SUMMARY:Board of Trustees Meeting
DESCRIPTION:Meeting will be held in the Esperanza Gran Salon located at 4261 N. 5th Street\, Philadelphia PA 19140.
URL:https://www.esperanzaacademycs.org/event/board-of-trustees-meeting-2/
CATEGORIES:Board of Trustees
END:VEVENT
BEGIN:VEVENT
DTSTART;VALUE=DATE:20211210
DTEND;VALUE=DATE:20211211
DTSTAMP:20260422T053619
CREATED:20210726T164331Z
LAST-MODIFIED:20210726T164331Z
UID:914-1639094400-1639180799@www.esperanzaacademycs.org
SUMMARY:Early Dismissal - Professional Development Day
DESCRIPTION:
URL:https://www.esperanzaacademycs.org/event/early-dismissal-professional-development-day/
CATEGORIES:Elementary School,High School,Middle School
END:VEVENT
BEGIN:VEVENT
DTSTART;VALUE=DATE:20211125
DTEND;VALUE=DATE:20211127
DTSTAMP:20260422T053619
CREATED:20211125T050000Z
LAST-MODIFIED:20210726T164308Z
UID:913-1637798400-1637971199@www.esperanzaacademycs.org
SUMMARY:No School - Thanksgiving Holiday
DESCRIPTION:
URL:https://www.esperanzaacademycs.org/event/no-school-thanksgiving-holiday/
CATEGORIES:Elementary School,High School,Middle School
END:VEVENT
BEGIN:VEVENT
DTSTART;VALUE=DATE:20211111
DTEND;VALUE=DATE:20211112
DTSTAMP:20260422T053619
CREATED:20210726T164125Z
LAST-MODIFIED:20210726T164125Z
UID:912-1636588800-1636675199@www.esperanzaacademycs.org
SUMMARY:No School - Veteran's Day
DESCRIPTION:
URL:https://www.esperanzaacademycs.org/event/no-school-veterans-day/
END:VEVENT
BEGIN:VEVENT
DTSTART;VALUE=DATE:20211102
DTEND;VALUE=DATE:20211103
DTSTAMP:20260422T053619
CREATED:20210726T164102Z
LAST-MODIFIED:20210726T164102Z
UID:911-1635811200-1635897599@www.esperanzaacademycs.org
SUMMARY:No Classes - Professional Development Day
DESCRIPTION:
URL:https://www.esperanzaacademycs.org/event/no-classes-professional-development-day-2/
CATEGORIES:Elementary School,High School,Middle School
END:VEVENT
BEGIN:VEVENT
DTSTART;TZID=America/New_York:20211028T173000
DTEND;TZID=America/New_York:20211028T193000
DTSTAMP:20260422T053619
CREATED:20211028T213000Z
LAST-MODIFIED:20210921T195615Z
UID:910-1635442200-1635449400@www.esperanzaacademycs.org
SUMMARY:Board of Trustees Meeting
DESCRIPTION:Meeting will be held in the Esperanza Gran Salon located at 4261 N. 5th Street\, Philadelphia PA 19140.
URL:https://www.esperanzaacademycs.org/event/board-of-trustees-meeting/
CATEGORIES:Board of Trustees
END:VEVENT
BEGIN:VEVENT
DTSTART;VALUE=DATE:20211001
DTEND;VALUE=DATE:20211002
DTSTAMP:20260422T053619
CREATED:20211001T040000Z
LAST-MODIFIED:20210728T150924Z
UID:909-1633046400-1633132799@www.esperanzaacademycs.org
SUMMARY:Early Dismissal for Students - Professional Development Day
DESCRIPTION:
URL:https://www.esperanzaacademycs.org/event/professional-development-day-early-dismissal/
CATEGORIES:Elementary School,High School,Middle School
END:VEVENT
BEGIN:VEVENT
DTSTART;VALUE=DATE:20210924
DTEND;VALUE=DATE:20210925
DTSTAMP:20260422T053619
CREATED:20210726T163907Z
LAST-MODIFIED:20210726T163907Z
UID:908-1632441600-1632527999@www.esperanzaacademycs.org
SUMMARY:No Classes- Professional Development Day
DESCRIPTION:
URL:https://www.esperanzaacademycs.org/event/no-classes-professional-development-day/
CATEGORIES:Elementary School,High School,Middle School
END:VEVENT
BEGIN:VEVENT
DTSTART;TZID=America/New_York:20210923T173000
DTEND;TZID=America/New_York:20210923T190000
DTSTAMP:20260422T053619
CREATED:20210913T195205Z
LAST-MODIFIED:20210913T195205Z
UID:1017-1632418200-1632423600@www.esperanzaacademycs.org
SUMMARY:Elementary Back-to-School Night (Albrecht\, Flores\, & Muñiz's Classes)
DESCRIPTION:
URL:https://www.esperanzaacademycs.org/event/elementary-back-to-school-night-albrecht-flores-munizs-classes/
END:VEVENT
BEGIN:VEVENT
DTSTART;TZID=America/New_York:20210922T180000
DTEND;TZID=America/New_York:20210922T200000
DTSTAMP:20260422T053619
CREATED:20210726T163803Z
LAST-MODIFIED:20210726T163803Z
UID:906-1632333600-1632340800@www.esperanzaacademycs.org
SUMMARY:High School Back-to-School Night
DESCRIPTION:
URL:https://www.esperanzaacademycs.org/event/high-school-back-to-school-night/
CATEGORIES:High School
END:VEVENT
BEGIN:VEVENT
DTSTART;TZID=America/New_York:20210922T173000
DTEND;TZID=America/New_York:20210922T190000
DTSTAMP:20260422T053619
CREATED:20210923T220000Z
LAST-MODIFIED:20210913T195056Z
UID:907-1632331800-1632337200@www.esperanzaacademycs.org
SUMMARY:Elementary Back-to-School Night (Melvin\, Covelens\, & Anderson's Classes)
DESCRIPTION:
URL:https://www.esperanzaacademycs.org/event/elementary-back-to-school-night/
CATEGORIES:Elementary School
END:VEVENT
BEGIN:VEVENT
DTSTART;TZID=America/New_York:20210921T175000
DTEND;TZID=America/New_York:20210921T200000
DTSTAMP:20260422T053619
CREATED:20210921T220000Z
LAST-MODIFIED:20210917T210347Z
UID:905-1632246600-1632254400@www.esperanzaacademycs.org
SUMMARY:Middle School Back-to-School Night
DESCRIPTION:
URL:https://www.esperanzaacademycs.org/event/middle-school-back-to-school-night/
CATEGORIES:Middle School
END:VEVENT
BEGIN:VEVENT
DTSTART;VALUE=DATE:20210906
DTEND;VALUE=DATE:20210907
DTSTAMP:20260422T053619
CREATED:20210726T163657Z
LAST-MODIFIED:20210726T163657Z
UID:904-1630886400-1630972799@www.esperanzaacademycs.org
SUMMARY:School Closed - Happy Labor Day!
DESCRIPTION:
URL:https://www.esperanzaacademycs.org/event/school-closed-happy-labor-day/
CATEGORIES:Elementary School,High School,Middle School
END:VEVENT
BEGIN:VEVENT
DTSTART;VALUE=DATE:20210903
DTEND;VALUE=DATE:20210904
DTSTAMP:20260422T053619
CREATED:20210726T163637Z
LAST-MODIFIED:20210726T163637Z
UID:903-1630627200-1630713599@www.esperanzaacademycs.org
SUMMARY:School Closed
DESCRIPTION:
URL:https://www.esperanzaacademycs.org/event/school-closed/
CATEGORIES:Elementary School,High School,Middle School
END:VEVENT
BEGIN:VEVENT
DTSTART;VALUE=DATE:20210831
DTEND;VALUE=DATE:20210901
DTSTAMP:20260422T053619
CREATED:20210831T040000Z
LAST-MODIFIED:20210728T150756Z
UID:902-1630368000-1630454399@www.esperanzaacademycs.org
SUMMARY:First Semester Begins for 5th Grade (Group B) and All Other Grades
DESCRIPTION:
URL:https://www.esperanzaacademycs.org/event/first-semester-begins-for-all-students-2/
CATEGORIES:Elementary School,High School,Middle School
END:VEVENT
BEGIN:VEVENT
DTSTART;VALUE=DATE:20210830
DTEND;VALUE=DATE:20210831
DTSTAMP:20260422T053619
CREATED:20210830T040000Z
LAST-MODIFIED:20210803T154738Z
UID:901-1630281600-1630367999@www.esperanzaacademycs.org
SUMMARY:First Day of School for 5th Grade (Group A)\, 6th-8th Grade\, and 10th Grade
DESCRIPTION:
URL:https://www.esperanzaacademycs.org/event/first-day-of-school/
CATEGORIES:Elementary School,High School,Middle School
END:VEVENT
BEGIN:VEVENT
DTSTART;VALUE=DATE:20210823
DTEND;VALUE=DATE:20210828
DTSTAMP:20260422T053619
CREATED:20210728T150519Z
LAST-MODIFIED:20210728T150519Z
UID:936-1629676800-1630108799@www.esperanzaacademycs.org
SUMMARY:All Faculty and Staff Professional Development
DESCRIPTION:
URL:https://www.esperanzaacademycs.org/event/all-faculty-and-staff-professional-development/
CATEGORIES:Elementary School,High School,Middle School
END:VEVENT
BEGIN:VEVENT
DTSTART;VALUE=DATE:20210819
DTEND;VALUE=DATE:20210821
DTSTAMP:20260422T053619
CREATED:20210728T150437Z
LAST-MODIFIED:20210728T150437Z
UID:935-1629331200-1629503999@www.esperanzaacademycs.org
SUMMARY:New Staff Orientation
DESCRIPTION:
URL:https://www.esperanzaacademycs.org/event/new-staff-orientation-2/
CATEGORIES:Elementary School,High School,Middle School
END:VEVENT
BEGIN:VEVENT
DTSTART;VALUE=DATE:20210816
DTEND;VALUE=DATE:20210819
DTSTAMP:20260422T053619
CREATED:20210803T154823Z
LAST-MODIFIED:20210803T154823Z
UID:952-1629072000-1629331199@www.esperanzaacademycs.org
SUMMARY:9th Grade Bridge Program
DESCRIPTION:
URL:https://www.esperanzaacademycs.org/event/9th-grade-bridge-program/
CATEGORIES:High School
END:VEVENT
BEGIN:VEVENT
DTSTART;TZID=America/New_York:20210803T080000
DTEND;TZID=America/New_York:20210803T160000
DTSTAMP:20260422T053619
CREATED:20210803T130000Z
LAST-MODIFIED:20210802T203826Z
UID:934-1627977600-1628006400@www.esperanzaacademycs.org
SUMMARY:Board of Trustees Retreat
DESCRIPTION:Please contact Yesenia Garcia for Zoom meeting credentials at ygarcia@neacademy.net.
URL:https://www.esperanzaacademycs.org/event/board-retreat/
LOCATION:The Lodge at Union League Liberty Hill\, 800 Ridge Pike\, Lafayette Hill\, PA\, 19444\, United States
CATEGORIES:Board of Trustees
ORGANIZER;CN="Yesenia Garcia":MAILTO:ygarcia@neacademy.net
END:VEVENT
BEGIN:VEVENT
DTSTART;VALUE=DATE:20210611
DTEND;VALUE=DATE:20210612
DTSTAMP:20260422T053619
CREATED:20200630T122345Z
LAST-MODIFIED:20200812T000519Z
UID:289-1623369600-1623455999@www.esperanzaacademycs.org
SUMMARY:Early Dismissal- Last Day of School
DESCRIPTION:
URL:https://www.esperanzaacademycs.org/event/early-dismissal-last-day-of-school/
CATEGORIES:High School,Middle School
END:VEVENT
BEGIN:VEVENT
DTSTART;VALUE=DATE:20210610
DTEND;VALUE=DATE:20210611
DTSTAMP:20260422T053619
CREATED:20210610T040000Z
LAST-MODIFIED:20210323T133801Z
UID:288-1623283200-1623369599@www.esperanzaacademycs.org
SUMMARY:Board of Trustees Meeting (5:30 PM)
DESCRIPTION:To obtain Zoom information please contact Yesenia Garcia at ygarcia@neacademy.net
URL:https://www.esperanzaacademycs.org/event/board-of-trustees-meeting-530-pm-5/
CATEGORIES:High School,Middle School
END:VEVENT
BEGIN:VEVENT
DTSTART;VALUE=DATE:20210531
DTEND;VALUE=DATE:20210601
DTSTAMP:20260422T053619
CREATED:20210531T040000Z
LAST-MODIFIED:20200630T132758Z
UID:287-1622419200-1622505599@www.esperanzaacademycs.org
SUMMARY:Memorial Day – School Closed
DESCRIPTION:
URL:https://www.esperanzaacademycs.org/event/memorial-day-school-closed/
CATEGORIES:High School,Middle School
END:VEVENT
BEGIN:VEVENT
DTSTART;TZID=America/New_York:20210527T080000
DTEND;TZID=America/New_York:20210527T170000
DTSTAMP:20260422T053619
CREATED:20210525T153444Z
LAST-MODIFIED:20210525T153444Z
UID:833-1622102400-1622134800@www.esperanzaacademycs.org
SUMMARY:High School: Half Day for all Virtual Learning Classes
DESCRIPTION:
URL:https://www.esperanzaacademycs.org/event/high-school-half-day-for-all-virtual-learning-classes/
CATEGORIES:High School
END:VEVENT
BEGIN:VEVENT
DTSTART;VALUE=DATE:20210527
DTEND;VALUE=DATE:20210528
DTSTAMP:20260422T053619
CREATED:20210527T040000Z
LAST-MODIFIED:20210525T180655Z
UID:286-1622073600-1622159999@www.esperanzaacademycs.org
SUMMARY:High School Graduation at 7pm
DESCRIPTION:
URL:https://www.esperanzaacademycs.org/event/graduation-early-dismissal/
CATEGORIES:High School,Middle School
END:VEVENT
BEGIN:VEVENT
DTSTART;VALUE=DATE:20210520
DTEND;VALUE=DATE:20210521
DTSTAMP:20260422T053619
CREATED:20210520T040000Z
LAST-MODIFIED:20200630T132814Z
UID:285-1621468800-1621555199@www.esperanzaacademycs.org
SUMMARY:Board of Trustees Meeting (5:30 PM) (if needed)
DESCRIPTION:
URL:https://www.esperanzaacademycs.org/event/board-of-trustees-meeting-530-pm-if-needed-3/
CATEGORIES:High School,Middle School
END:VEVENT
BEGIN:VEVENT
DTSTART;TZID=America/New_York:20210428T170000
DTEND;TZID=America/New_York:20210428T190000
DTSTAMP:20260422T053619
CREATED:20210426T140000Z
LAST-MODIFIED:20210426T140650Z
UID:284-1619629200-1619636400@www.esperanzaacademycs.org
SUMMARY:Board of Trustees Meeting (5:00 PM)
DESCRIPTION:To obtain Zoom information please contact Yesenia Garcia at ygarcia@neacademy.net
URL:https://www.esperanzaacademycs.org/event/board-of-trustees-meeting-500-pm-4/
CATEGORIES:High School,Middle School
END:VEVENT
BEGIN:VEVENT
DTSTART;VALUE=DATE:20210419
DTEND;VALUE=DATE:20210420
DTSTAMP:20260422T053619
CREATED:20210419T040000Z
LAST-MODIFIED:20200916T153956Z
UID:552-1618790400-1618876799@www.esperanzaacademycs.org
SUMMARY:Spring Playing Season Begins
DESCRIPTION:The Spring Sports Playing Season is from April 19 – June 12.\n\n 
URL:https://www.esperanzaacademycs.org/event/spring-playing-season-begins/
END:VEVENT
END:VCALENDAR